BEGIN:VCALENDAR
VERSION:2.0
PRODID:-//Colorado Old Time Fiddlers&#039; Association - ECPv6.15.20//NONSGML v1.0//EN
CALSCALE:GREGORIAN
METHOD:PUBLISH
X-WR-CALNAME:Colorado Old Time Fiddlers&#039; Association
X-ORIGINAL-URL:https://www.coloradofiddlers.org
X-WR-CALDESC:Events for Colorado Old Time Fiddlers&#039; Association
REFRESH-INTERVAL;VALUE=DURATION:PT1H
X-Robots-Tag:noindex
X-PUBLISHED-TTL:PT1H
BEGIN:VTIMEZONE
TZID:America/Denver
BEGIN:DAYLIGHT
TZOFFSETFROM:-0700
TZOFFSETTO:-0600
TZNAME:MDT
DTSTART:20240310T090000
END:DAYLIGHT
BEGIN:STANDARD
TZOFFSETFROM:-0600
TZOFFSETTO:-0700
TZNAME:MST
DTSTART:20241103T080000
END:STANDARD
BEGIN:DAYLIGHT
TZOFFSETFROM:-0700
TZOFFSETTO:-0600
TZNAME:MDT
DTSTART:20250309T090000
END:DAYLIGHT
BEGIN:STANDARD
TZOFFSETFROM:-0600
TZOFFSETTO:-0700
TZNAME:MST
DTSTART:20251102T080000
END:STANDARD
BEGIN:DAYLIGHT
TZOFFSETFROM:-0700
TZOFFSETTO:-0600
TZNAME:MDT
DTSTART:20260308T090000
END:DAYLIGHT
BEGIN:STANDARD
TZOFFSETFROM:-0600
TZOFFSETTO:-0700
TZNAME:MST
DTSTART:20261101T080000
END:STANDARD
END:VTIMEZONE
BEGIN:VEVENT
DTSTART;VALUE=DATE:20250724
DTEND;VALUE=DATE:20250727
DTSTAMP:20260423T092502
CREATED:20250731T025852Z
LAST-MODIFIED:20250731T030056Z
UID:2685-1753315200-1753574399@www.coloradofiddlers.org
SUMMARY:RockyGrass Festival
DESCRIPTION:54th Annual RockyGrass Festival\n\n\n\n\n\n\n\n\nLocated in Lyons\, Colorado\, RockyGrass is traditional bluegrass at its finest. Red rock cliffs and Cottonwoods peer down over the property as the North St. Vrain River flows through the festival grounds just feet from the main stage.
URL:https://www.coloradofiddlers.org/event/rockygrass-festival/
END:VEVENT
END:VCALENDAR